BEGIN:VCALENDAR
VERSION:2.0
PRODID:-//NīcasBaznīca.lv - ECPv6.15.20//NONSGML v1.0//EN
CALSCALE:GREGORIAN
METHOD:PUBLISH
X-WR-CALNAME:NīcasBaznīca.lv
X-ORIGINAL-URL:https://www.nicasbaznica.lv
X-WR-CALDESC:Events for NīcasBaznīca.lv
REFRESH-INTERVAL;VALUE=DURATION:PT1H
X-Robots-Tag:noindex
X-PUBLISHED-TTL:PT1H
BEGIN:VTIMEZONE
TZID:Europe/Riga
BEGIN:DAYLIGHT
TZOFFSETFROM:+0200
TZOFFSETTO:+0300
TZNAME:EEST
DTSTART:20240331T010000
END:DAYLIGHT
BEGIN:STANDARD
TZOFFSETFROM:+0300
TZOFFSETTO:+0200
TZNAME:EET
DTSTART:20241027T010000
END:STANDARD
BEGIN:DAYLIGHT
TZOFFSETFROM:+0200
TZOFFSETTO:+0300
TZNAME:EEST
DTSTART:20250330T010000
END:DAYLIGHT
BEGIN:STANDARD
TZOFFSETFROM:+0300
TZOFFSETTO:+0200
TZNAME:EET
DTSTART:20251026T010000
END:STANDARD
BEGIN:DAYLIGHT
TZOFFSETFROM:+0200
TZOFFSETTO:+0300
TZNAME:EEST
DTSTART:20260329T010000
END:DAYLIGHT
BEGIN:STANDARD
TZOFFSETFROM:+0300
TZOFFSETTO:+0200
TZNAME:EET
DTSTART:20261025T010000
END:STANDARD
END:VTIMEZONE
BEGIN:VEVENT
DTSTART;TZID=Europe/Riga:20250126T140000
DTEND;TZID=Europe/Riga:20250126T153000
DTSTAMP:20260420T161111
CREATED:20250103T204434Z
LAST-MODIFIED:20250103T204434Z
UID:8304-1737900000-1737905400@www.nicasbaznica.lv
SUMMARY:Dievkalpojums
DESCRIPTION:
URL:https://www.nicasbaznica.lv/event/dievkalpojums-145/
END:VEVENT
END:VCALENDAR